BEGIN:VCALENDAR
VERSION:2.0
PRODID:-//jEvents 2.0 for Joomla//EN
CALSCALE:GREGORIAN
METHOD:PUBLISH
BEGIN:VTIMEZONE
TZID:Europe/Amsterdam
BEGIN:STANDARD
DTSTART:20250207T100000
RDATE:20250330T030000
TZOFFSETFROM:+0200
TZOFFSETTO:+0100
TZNAME:Europe/Amsterdam CET
END:STANDARD
BEGIN:STANDARD
DTSTART:20251026T020000
RDATE:20260329T030000
TZOFFSETFROM:+0200
TZOFFSETTO:+0100
TZNAME:Europe/Amsterdam CET
END:STANDARD
BEGIN:STANDARD
DTSTART:20261025T020000
RDATE:20270328T030000
TZOFFSETFROM:+0200
TZOFFSETTO:+0100
TZNAME:Europe/Amsterdam CET
END:STANDARD
BEGIN:STANDARD
DTSTART:20271031T020000
RDATE:20280326T030000
TZOFFSETFROM:+0200
TZOFFSETTO:+0100
TZNAME:Europe/Amsterdam CET
END:STANDARD
BEGIN:STANDARD
DTSTART:20281029T020000
RDATE:20290325T030000
TZOFFSETFROM:+0200
TZOFFSETTO:+0100
TZNAME:Europe/Amsterdam CET
END:STANDARD
BEGIN:STANDARD
DTSTART:20291028T020000
RDATE:20300331T030000
TZOFFSETFROM:+0200
TZOFFSETTO:+0100
TZNAME:Europe/Amsterdam CET
END:STANDARD
BEGIN:STANDARD
DTSTART:20301027T020000
RDATE:20310330T030000
TZOFFSETFROM:+0200
TZOFFSETTO:+0100
TZNAME:Europe/Amsterdam CET
END:STANDARD
BEGIN:STANDARD
DTSTART:20311026T020000
RDATE:20320328T030000
TZOFFSETFROM:+0200
TZOFFSETTO:+0100
TZNAME:Europe/Amsterdam CET
END:STANDARD
BEGIN:DAYLIGHT
DTSTART:20250330T030000
RDATE:20251026T020000
TZOFFSETFROM:+0100
TZOFFSETTO:+0200
TZNAME:Europe/Amsterdam CEST
END:DAYLIGHT
BEGIN:DAYLIGHT
DTSTART:20260329T030000
RDATE:20261025T020000
TZOFFSETFROM:+0100
TZOFFSETTO:+0200
TZNAME:Europe/Amsterdam CEST
END:DAYLIGHT
BEGIN:DAYLIGHT
DTSTART:20270328T030000
RDATE:20271031T020000
TZOFFSETFROM:+0100
TZOFFSETTO:+0200
TZNAME:Europe/Amsterdam CEST
END:DAYLIGHT
BEGIN:DAYLIGHT
DTSTART:20280326T030000
RDATE:20281029T020000
TZOFFSETFROM:+0100
TZOFFSETTO:+0200
TZNAME:Europe/Amsterdam CEST
END:DAYLIGHT
BEGIN:DAYLIGHT
DTSTART:20290325T030000
RDATE:20291028T020000
TZOFFSETFROM:+0100
TZOFFSETTO:+0200
TZNAME:Europe/Amsterdam CEST
END:DAYLIGHT
BEGIN:DAYLIGHT
DTSTART:20300331T030000
RDATE:20301027T020000
TZOFFSETFROM:+0100
TZOFFSETTO:+0200
TZNAME:Europe/Amsterdam CEST
END:DAYLIGHT
BEGIN:DAYLIGHT
DTSTART:20310330T030000
RDATE:20311026T020000
TZOFFSETFROM:+0100
TZOFFSETTO:+0200
TZNAME:Europe/Amsterdam CEST
END:DAYLIGHT
END:VTIMEZONE
BEGIN:VEVENT
UID:12e21a04-fbb8-6f29-67db-49cc19a9d010
CATEGORIES:Viering
CREATED:20251229T101209
SUMMARY:Ochtendviering: Heilig Avondmaal
LOCATION:Grote Kerk
URL;VALUE=URI:https://pg-elst.nl/actueel/agenda/evenementdetail/6993/-/ochtendviering-hei
 lig-avondmaal?tmpl=component
DESCRIPTION:Datum: zondag 8 februari 2026\nPlaats: Grote Kerk\nOpmerking: Heilig Avondm
 aal\nVoorganger: Ds. Pieter Dirk Wolthaus\nOrganist: IJsbrand ter Haar\nMmv
 : \nLiturgische kleur: groen (https://www.pg-elst.nl/component/content/arti
 cle/kleur-in-de-kerk?catid=47&amp;Itemid=101)\nCollecte 1: KIA – Soedan – N
 oodhulp voor vluchtelingen uit Soedan\nCollecte 2: kerkelijke activiteiten\
 nCollecte 3: Onderhoud gebouwen\n\n		Na de dienst is er gelegenheid om koff
 ie of thee te drinken in De Ruimte (https://pg-elst.nl/gebouwen/de-ruimte).
 \n\n\n This event was imported from: https://pg-elst.nl/actueel/agenda/even
 ementdetail/6993/-/ochtendviering-heilig-avondmaal?tmpl=component (https://
 pg-elst.nl/actueel/agenda/evenementdetail/6993/-/ochtendviering-heilig-avon
 dmaal?tmpl=component)
X-ALT-DESC;FMTTYPE=text/html:<b>Datum:</b> zondag 8 februari 2026<br /><b>Plaats:</b> Grote Kerk<br /><b
 >Opmerking:</b> Heilig Avondmaal<br /><b>Voorganger:</b> Ds. Pieter Dirk Wo
 lthaus<br /><b>Organist:</b> IJsbrand ter Haar<br /><b>Mmv:</b> <br /><b>Li
 turgische kleur:</b> <a href="https://www.pg-elst.nl/component/content/arti
 cle/kleur-in-de-kerk?catid=47&amp;Itemid=101" target="_top">groen</a><br />
 <b>Collecte 1:</b> KIA – Soedan – Noodhulp voor vluchtelingen uit Soedan<br
  /><b>Collecte 2:</b> kerkelijke activiteiten<br /><b>Collecte 3:</b> Onder
 houd gebouwen<br /><br /><div>		Na de dienst is er gelegenheid om koffie of
  thee te drinken in <a href="https://pg-elst.nl/gebouwen/de-ruimte" target=
 "_top">De Ruimte</a>.<br /></div><br /><br /> <a href="https://pg-elst.nl/a
 ctueel/agenda/evenementdetail/6993/-/ochtendviering-heilig-avondmaal?tmpl=c
 omponent">This event was imported from: https://pg-elst.nl/actueel/agenda/e
 venementdetail/6993/-/ochtendviering-heilig-avondmaal?tmpl=component</a>CONTACT:Ds. Pieter Dirk Wolthaus
DTSTAMP:20260420T092341
DTSTART;TZID=Europe/Amsterdam:20260208T100000
DTEND;TZID=Europe/Amsterdam:20260208T111500
SEQUENCE:0
TRANSP:OPAQUE
END:VEVENT
END:VCALENDAR