BEGIN:VCALENDAR
VERSION:2.0
PRODID:-//jEvents 2.0 for Joomla//EN
CALSCALE:GREGORIAN
METHOD:PUBLISH
BEGIN:VTIMEZONE
TZID:Europe/Amsterdam
BEGIN:STANDARD
DTSTART:20251026T020000
RDATE:20260329T030000
TZOFFSETFROM:+0200
TZOFFSETTO:+0100
TZNAME:Europe/Amsterdam CET
END:STANDARD
BEGIN:STANDARD
DTSTART:20261025T020000
RDATE:20270328T030000
TZOFFSETFROM:+0200
TZOFFSETTO:+0100
TZNAME:Europe/Amsterdam CET
END:STANDARD
BEGIN:STANDARD
DTSTART:20271031T020000
RDATE:20280326T030000
TZOFFSETFROM:+0200
TZOFFSETTO:+0100
TZNAME:Europe/Amsterdam CET
END:STANDARD
BEGIN:STANDARD
DTSTART:20281029T020000
RDATE:20290325T030000
TZOFFSETFROM:+0200
TZOFFSETTO:+0100
TZNAME:Europe/Amsterdam CET
END:STANDARD
BEGIN:STANDARD
DTSTART:20291028T020000
RDATE:20300331T030000
TZOFFSETFROM:+0200
TZOFFSETTO:+0100
TZNAME:Europe/Amsterdam CET
END:STANDARD
BEGIN:STANDARD
DTSTART:20301027T020000
RDATE:20310330T030000
TZOFFSETFROM:+0200
TZOFFSETTO:+0100
TZNAME:Europe/Amsterdam CET
END:STANDARD
BEGIN:STANDARD
DTSTART:20311026T020000
RDATE:20320328T030000
TZOFFSETFROM:+0200
TZOFFSETTO:+0100
TZNAME:Europe/Amsterdam CET
END:STANDARD
BEGIN:DAYLIGHT
DTSTART:20250516T100000
RDATE:20251026T020000
TZOFFSETFROM:+0100
TZOFFSETTO:+0200
TZNAME:Europe/Amsterdam CEST
END:DAYLIGHT
BEGIN:DAYLIGHT
DTSTART:20260329T030000
RDATE:20261025T020000
TZOFFSETFROM:+0100
TZOFFSETTO:+0200
TZNAME:Europe/Amsterdam CEST
END:DAYLIGHT
BEGIN:DAYLIGHT
DTSTART:20270328T030000
RDATE:20271031T020000
TZOFFSETFROM:+0100
TZOFFSETTO:+0200
TZNAME:Europe/Amsterdam CEST
END:DAYLIGHT
BEGIN:DAYLIGHT
DTSTART:20280326T030000
RDATE:20281029T020000
TZOFFSETFROM:+0100
TZOFFSETTO:+0200
TZNAME:Europe/Amsterdam CEST
END:DAYLIGHT
BEGIN:DAYLIGHT
DTSTART:20290325T030000
RDATE:20291028T020000
TZOFFSETFROM:+0100
TZOFFSETTO:+0200
TZNAME:Europe/Amsterdam CEST
END:DAYLIGHT
BEGIN:DAYLIGHT
DTSTART:20300331T030000
RDATE:20301027T020000
TZOFFSETFROM:+0100
TZOFFSETTO:+0200
TZNAME:Europe/Amsterdam CEST
END:DAYLIGHT
BEGIN:DAYLIGHT
DTSTART:20310330T030000
RDATE:20311026T020000
TZOFFSETFROM:+0100
TZOFFSETTO:+0200
TZNAME:Europe/Amsterdam CEST
END:DAYLIGHT
END:VTIMEZONE
BEGIN:VEVENT
UID:708770d6-a641-e9b7-fcfc-61b16f688b2f
CATEGORIES:Viering
CREATED:20251229T101215
SUMMARY:Ochtendviering
LOCATION:Grote Kerk
URL;VALUE=URI:https://pg-elst.nl/actueel/agenda/evenementdetail/7013/-/ochtendviering?tmp
 l=component
DESCRIPTION:Datum: zondag 17 mei 2026\nPlaats: Grote Kerk\nOpmerking: \nVoorganger: Ds.
  Ella Kamper\nOrganist: Dirk Luijmes\nMmv: \nLiturgische kleur: wit (https:
 //www.pg-elst.nl/component/content/article/kleur-in-de-kerk?catid=47&amp;It
 emid=101)\nCollecte 1: \nCollecte 2: kerkelijke activiteiten\nCollecte 3: O
 nderhoud gebouwen\n\n		Na de dienst is er gelegenheid om koffie of thee te 
 drinken in De Ruimte (https://pg-elst.nl/gebouwen/de-ruimte).\n\n\n This ev
 ent was imported from: https://pg-elst.nl/actueel/agenda/evenementdetail/70
 13/-/ochtendviering?tmpl=component
X-ALT-DESC;FMTTYPE=text/html:<b>Datum:</b> zondag 17 mei 2026<br /><b>Plaats:</b> Grote Kerk<br /><b>Opm
 erking:</b> <br /><b>Voorganger:</b> Ds. Ella Kamper<br /><b>Organist:</b> 
 Dirk Luijmes<br /><b>Mmv:</b> <br /><b>Liturgische kleur:</b> <a href="http
 s://www.pg-elst.nl/component/content/article/kleur-in-de-kerk?catid=47&amp;
 Itemid=101" target="_top">wit</a><br /><b>Collecte 1:</b> <br /><b>Collecte
  2:</b> kerkelijke activiteiten<br /><b>Collecte 3:</b> Onderhoud gebouwen<
 br /><br /><div>		Na de dienst is er gelegenheid om koffie of thee te drink
 en in <a href="https://pg-elst.nl/gebouwen/de-ruimte" target="_top">De Ruim
 te</a>.<br /></div><br /><br /> <a href="https://pg-elst.nl/actueel/agenda/
 evenementdetail/7013/-/ochtendviering?tmpl=component">This event was import
 ed from: https://pg-elst.nl/actueel/agenda/evenementdetail/7013/-/ochtendvi
 ering?tmpl=component</a>CONTACT:Ds. Ella Kamper
DTSTAMP:20260421T145505
DTSTART;TZID=Europe/Amsterdam:20260517T100000
DTEND;TZID=Europe/Amsterdam:20260517T111500
SEQUENCE:0
TRANSP:OPAQUE
END:VEVENT
END:VCALENDAR