BEGIN:VCALENDAR
VERSION:2.0
PRODID:-//jEvents 2.0 for Joomla//EN
CALSCALE:GREGORIAN
METHOD:PUBLISH
BEGIN:VTIMEZONE
TZID:Europe/Amsterdam
BEGIN:STANDARD
DTSTART:20251026T020000
RDATE:20260329T030000
TZOFFSETFROM:+0200
TZOFFSETTO:+0100
TZNAME:Europe/Amsterdam CET
END:STANDARD
BEGIN:STANDARD
DTSTART:20261025T020000
RDATE:20270328T030000
TZOFFSETFROM:+0200
TZOFFSETTO:+0100
TZNAME:Europe/Amsterdam CET
END:STANDARD
BEGIN:STANDARD
DTSTART:20271031T020000
RDATE:20280326T030000
TZOFFSETFROM:+0200
TZOFFSETTO:+0100
TZNAME:Europe/Amsterdam CET
END:STANDARD
BEGIN:STANDARD
DTSTART:20281029T020000
RDATE:20290325T030000
TZOFFSETFROM:+0200
TZOFFSETTO:+0100
TZNAME:Europe/Amsterdam CET
END:STANDARD
BEGIN:STANDARD
DTSTART:20291028T020000
RDATE:20300331T030000
TZOFFSETFROM:+0200
TZOFFSETTO:+0100
TZNAME:Europe/Amsterdam CET
END:STANDARD
BEGIN:STANDARD
DTSTART:20301027T020000
RDATE:20310330T030000
TZOFFSETFROM:+0200
TZOFFSETTO:+0100
TZNAME:Europe/Amsterdam CET
END:STANDARD
BEGIN:STANDARD
DTSTART:20311026T020000
RDATE:20320328T030000
TZOFFSETFROM:+0200
TZOFFSETTO:+0100
TZNAME:Europe/Amsterdam CET
END:STANDARD
BEGIN:DAYLIGHT
DTSTART:20250530T100000
RDATE:20251026T020000
TZOFFSETFROM:+0100
TZOFFSETTO:+0200
TZNAME:Europe/Amsterdam CEST
END:DAYLIGHT
BEGIN:DAYLIGHT
DTSTART:20260329T030000
RDATE:20261025T020000
TZOFFSETFROM:+0100
TZOFFSETTO:+0200
TZNAME:Europe/Amsterdam CEST
END:DAYLIGHT
BEGIN:DAYLIGHT
DTSTART:20270328T030000
RDATE:20271031T020000
TZOFFSETFROM:+0100
TZOFFSETTO:+0200
TZNAME:Europe/Amsterdam CEST
END:DAYLIGHT
BEGIN:DAYLIGHT
DTSTART:20280326T030000
RDATE:20281029T020000
TZOFFSETFROM:+0100
TZOFFSETTO:+0200
TZNAME:Europe/Amsterdam CEST
END:DAYLIGHT
BEGIN:DAYLIGHT
DTSTART:20290325T030000
RDATE:20291028T020000
TZOFFSETFROM:+0100
TZOFFSETTO:+0200
TZNAME:Europe/Amsterdam CEST
END:DAYLIGHT
BEGIN:DAYLIGHT
DTSTART:20300331T030000
RDATE:20301027T020000
TZOFFSETFROM:+0100
TZOFFSETTO:+0200
TZNAME:Europe/Amsterdam CEST
END:DAYLIGHT
BEGIN:DAYLIGHT
DTSTART:20310330T030000
RDATE:20311026T020000
TZOFFSETFROM:+0100
TZOFFSETTO:+0200
TZNAME:Europe/Amsterdam CEST
END:DAYLIGHT
END:VTIMEZONE
BEGIN:VEVENT
UID:fe2eef3c-24f7-5f96-4bfe-09c2b64ceb46
CATEGORIES:Viering
CREATED:20251229T101216
SUMMARY:Ochtendviering: Drie-eenheidszondag
LOCATION:Grote Kerk
URL;VALUE=URI:https://pg-elst.nl/actueel/agenda/evenementdetail/7015/-/ochtendviering-dri
 e-eenheidszondag?tmpl=component
DESCRIPTION:Datum: zondag 31 mei 2026\nPlaats: Grote Kerk\nOpmerking: Drie-eenheidszond
 ag\nVoorganger: Ds. Aafke Zaal\nOrganist: IJsbrand ter Haar\nMmv: \nLiturgi
 sche kleur: rood (https://www.pg-elst.nl/component/content/article/kleur-in
 -de-kerk?catid=47&amp;Itemid=101)\nCollecte 1: \nCollecte 2: kerkelijke act
 iviteiten\nCollecte 3: Onderhoud gebouwen\n\n		Na de dienst is er gelegenhe
 id om koffie of thee te drinken in De Ruimte (https://pg-elst.nl/gebouwen/d
 e-ruimte).\n\n\n This event was imported from: https://pg-elst.nl/actueel/a
 genda/evenementdetail/7015/-/ochtendviering-drie-eenheidszondag?tmpl=compon
 ent
X-ALT-DESC;FMTTYPE=text/html:<b>Datum:</b> zondag 31 mei 2026<br /><b>Plaats:</b> Grote Kerk<br /><b>Opm
 erking:</b> Drie-eenheidszondag<br /><b>Voorganger:</b> Ds. Aafke Zaal<br /
 ><b>Organist:</b> IJsbrand ter Haar<br /><b>Mmv:</b> <br /><b>Liturgische k
 leur:</b> <a href="https://www.pg-elst.nl/component/content/article/kleur-i
 n-de-kerk?catid=47&amp;Itemid=101" target="_top">rood</a><br /><b>Collecte 
 1:</b> <br /><b>Collecte 2:</b> kerkelijke activiteiten<br /><b>Collecte 3:
 </b> Onderhoud gebouwen<br /><br /><div>		Na de dienst is er gelegenheid om
  koffie of thee te drinken in <a href="https://pg-elst.nl/gebouwen/de-ruimt
 e" target="_top">De Ruimte</a>.<br /></div><br /><br /> <a href="https://pg
 -elst.nl/actueel/agenda/evenementdetail/7015/-/ochtendviering-drie-eenheids
 zondag?tmpl=component">This event was imported from: https://pg-elst.nl/act
 ueel/agenda/evenementdetail/7015/-/ochtendviering-drie-eenheidszondag?tmpl=
 component</a>CONTACT:Ds. Aafke Zaal
DTSTAMP:20260421T112559
DTSTART;TZID=Europe/Amsterdam:20260531T100000
DTEND;TZID=Europe/Amsterdam:20260531T111500
SEQUENCE:0
TRANSP:OPAQUE
END:VEVENT
END:VCALENDAR