BEGIN:VCALENDAR
VERSION:2.0
PRODID:-//jEvents 2.0 for Joomla//EN
CALSCALE:GREGORIAN
METHOD:PUBLISH
BEGIN:VTIMEZONE
TZID:Europe/Amsterdam
BEGIN:STANDARD
DTSTART:20251026T020000
RDATE:20260329T030000
TZOFFSETFROM:+0200
TZOFFSETTO:+0100
TZNAME:Europe/Amsterdam CET
END:STANDARD
BEGIN:STANDARD
DTSTART:20261025T020000
RDATE:20270328T030000
TZOFFSETFROM:+0200
TZOFFSETTO:+0100
TZNAME:Europe/Amsterdam CET
END:STANDARD
BEGIN:STANDARD
DTSTART:20271031T020000
RDATE:20280326T030000
TZOFFSETFROM:+0200
TZOFFSETTO:+0100
TZNAME:Europe/Amsterdam CET
END:STANDARD
BEGIN:STANDARD
DTSTART:20281029T020000
RDATE:20290325T030000
TZOFFSETFROM:+0200
TZOFFSETTO:+0100
TZNAME:Europe/Amsterdam CET
END:STANDARD
BEGIN:STANDARD
DTSTART:20291028T020000
RDATE:20300331T030000
TZOFFSETFROM:+0200
TZOFFSETTO:+0100
TZNAME:Europe/Amsterdam CET
END:STANDARD
BEGIN:STANDARD
DTSTART:20301027T020000
RDATE:20310330T030000
TZOFFSETFROM:+0200
TZOFFSETTO:+0100
TZNAME:Europe/Amsterdam CET
END:STANDARD
BEGIN:STANDARD
DTSTART:20311026T020000
RDATE:20320328T030000
TZOFFSETFROM:+0200
TZOFFSETTO:+0100
TZNAME:Europe/Amsterdam CET
END:STANDARD
BEGIN:DAYLIGHT
DTSTART:20250912T100000
RDATE:20251026T020000
TZOFFSETFROM:+0100
TZOFFSETTO:+0200
TZNAME:Europe/Amsterdam CEST
END:DAYLIGHT
BEGIN:DAYLIGHT
DTSTART:20260329T030000
RDATE:20261025T020000
TZOFFSETFROM:+0100
TZOFFSETTO:+0200
TZNAME:Europe/Amsterdam CEST
END:DAYLIGHT
BEGIN:DAYLIGHT
DTSTART:20270328T030000
RDATE:20271031T020000
TZOFFSETFROM:+0100
TZOFFSETTO:+0200
TZNAME:Europe/Amsterdam CEST
END:DAYLIGHT
BEGIN:DAYLIGHT
DTSTART:20280326T030000
RDATE:20281029T020000
TZOFFSETFROM:+0100
TZOFFSETTO:+0200
TZNAME:Europe/Amsterdam CEST
END:DAYLIGHT
BEGIN:DAYLIGHT
DTSTART:20290325T030000
RDATE:20291028T020000
TZOFFSETFROM:+0100
TZOFFSETTO:+0200
TZNAME:Europe/Amsterdam CEST
END:DAYLIGHT
BEGIN:DAYLIGHT
DTSTART:20300331T030000
RDATE:20301027T020000
TZOFFSETFROM:+0100
TZOFFSETTO:+0200
TZNAME:Europe/Amsterdam CEST
END:DAYLIGHT
BEGIN:DAYLIGHT
DTSTART:20310330T030000
RDATE:20311026T020000
TZOFFSETFROM:+0100
TZOFFSETTO:+0200
TZNAME:Europe/Amsterdam CEST
END:DAYLIGHT
END:VTIMEZONE
BEGIN:VEVENT
UID:0c40a7cd-6e8f-300c-db07-816f660da35f
CATEGORIES:Viering
CREATED:20251229T101220
SUMMARY:Ochtendviering: Heilig Avondmaal
LOCATION:Grote Kerk
URL;VALUE=URI:https://pg-elst.nl/actueel/agenda/evenementdetail/7032/-/ochtendviering-hei
 lig-avondmaal?tmpl=component
DESCRIPTION:<b>Datum:</b> zondag 13 september 2026<br /><b>Plaats:</b> Grote Kerk<br />
 <b>Opmerking:</b> Heilig Avondmaal<br /><b>Voorganger:</b> Ds. Aafke Zaal<b
 r /><b>Organist:</b> IJsbrand ter Haar<br /><b>Mmv:</b> <br /><b>Liturgisch
 e kleur:</b> <a href="https://www.pg-elst.nl/component/content/article/kleu
 r-in-de-kerk?catid=47&amp;Itemid=101" target="_top">groen</a><br /><b>Colle
 cte 1:</b> <br /><b>Collecte 2:</b> kerkelijke activiteiten<br /><b>Collect
 e 3:</b> Onderhoud gebouwen<br /><br /><div>		Na de dienst is er gelegenhei
 d om koffie of thee te drinken in <a href="https://pg-elst.nl/gebouwen/de-r
 uimte" target="_top">De Ruimte</a>.<br /></div><br /><br /> <a href="https:
 //pg-elst.nl/actueel/agenda/evenementdetail/7032/-/ochtendviering-heilig-av
 ondmaal?tmpl=component">This event was imported from: https://pg-elst.nl/ac
 tueel/agenda/evenementdetail/7032/-/ochtendviering-heilig-avondmaal?tmpl=co
 mponent</a>CONTACT:Ds. Aafke Zaal
DTSTAMP:20260420T224949
DTSTART;TZID=Europe/Amsterdam:20260913T100000
DTEND;TZID=Europe/Amsterdam:20260913T111500
SEQUENCE:0
TRANSP:OPAQUE
END:VEVENT
END:VCALENDAR